BEGIN:VCALENDAR
VERSION:2.0
PRODID:-//Coach Seth Performance - ECPv6.6.0.2//NONSGML v1.0//EN
CALSCALE:GREGORIAN
METHOD:PUBLISH
X-ORIGINAL-URL:https://footballseth.be
X-WR-CALDESC:évènements pour Coach Seth Performance
REFRESH-INTERVAL;VALUE=DURATION:PT1H
X-Robots-Tag:noindex
X-PUBLISHED-TTL:PT1H
BEGIN:VTIMEZONE
TZID:Europe/Paris
BEGIN:DAYLIGHT
TZOFFSETFROM:+0100
TZOFFSETTO:+0200
TZNAME:CEST
DTSTART:20240331T010000
END:DAYLIGHT
BEGIN:STANDARD
TZOFFSETFROM:+0200
TZOFFSETTO:+0100
TZNAME:CET
DTSTART:20241027T010000
END:STANDARD
END:VTIMEZONE
BEGIN:VEVENT
DTSTART;TZID=Europe/Paris:20240825T080000
DTEND;TZID=Europe/Paris:20240825T170000
DTSTAMP:20260425T191629
CREATED:20240813T121041Z
LAST-MODIFIED:20240814T194725Z
UID:18922-1724572800-1724605200@footballseth.be
SUMMARY:Stage de carnaval
DESCRIPTION:With a fully responsive design\, a variety of views\, and countless ways to customize\, The Events Calendar is a one-stop solution for events. Ready to dive into the plugin? Here’s a rundown on how to get up and running in no time!
URL:https://footballseth.be/evenement/stage-de-carnaval/
LOCATION:NSeth Berchem\, 1\, Rue des Châlets\, Bruxelles\, 1082\, Belgique
ATTACH;FMTTYPE=image/jpeg:https://footballseth.be/wp-content/uploads/2024/08/Entrainement-physique.jpg
END:VEVENT
END:VCALENDAR